BEGIN:VCALENDAR
VERSION:2.0
PRODID:-//Derwentside Athletic Club - ECPv6.0.9//NONSGML v1.0//EN
CALSCALE:GREGORIAN
METHOD:PUBLISH
X-ORIGINAL-URL:https://derwentsideac.uk
X-WR-CALDESC:Events for Derwentside Athletic Club
REFRESH-INTERVAL;VALUE=DURATION:PT1H
X-Robots-Tag:noindex
X-PUBLISHED-TTL:PT1H
BEGIN:VTIMEZONE
TZID:Europe/London
BEGIN:DAYLIGHT
TZOFFSETFROM:+0000
TZOFFSETTO:+0100
TZNAME:BST
DTSTART:20220327T010000
END:DAYLIGHT
BEGIN:STANDARD
TZOFFSETFROM:+0100
TZOFFSETTO:+0000
TZNAME:GMT
DTSTART:20221030T010000
END:STANDARD
END:VTIMEZONE
BEGIN:VEVENT
DTSTART;TZID=Europe/London:20220106T190000
DTEND;TZID=Europe/London:20220106T200000
DTSTAMP:20260420T194735
CREATED:20220222T121536Z
LAST-MODIFIED:20220222T121645Z
UID:196-1641495600-1641499200@derwentsideac.uk
SUMMARY:Senior Training
DESCRIPTION:Group 2: Steady Run (5-6 miles); Group 3: Steady Run (7-8 miles)
URL:https://derwentsideac.uk/event/senior-training-060122/
CATEGORIES:Senior Training,Training
END:VEVENT
BEGIN:VEVENT
DTSTART;TZID=Europe/London:20220104T190000
DTEND;TZID=Europe/London:20220104T200000
DTSTAMP:20260420T194735
CREATED:20220222T121353Z
LAST-MODIFIED:20220222T121505Z
UID:194-1641322800-1641326400@derwentsideac.uk
SUMMARY:Senior Training
DESCRIPTION:All Groups: Club Handicap (4.5 miles)
URL:https://derwentsideac.uk/event/senior-training-040122/
CATEGORIES:Senior Training,Training
END:VEVENT
END:VCALENDAR