BEGIN:VCALENDAR
VERSION:2.0
PRODID:-//Derwentside Athletic Club - ECPv6.0.9//NONSGML v1.0//EN
CALSCALE:GREGORIAN
METHOD:PUBLISH
X-WR-CALNAME:Derwentside Athletic Club
X-ORIGINAL-URL:https://derwentsideac.uk
X-WR-CALDESC:Events for Derwentside Athletic Club
REFRESH-INTERVAL;VALUE=DURATION:PT1H
X-Robots-Tag:noindex
X-PUBLISHED-TTL:PT1H
BEGIN:VTIMEZONE
TZID:Europe/London
BEGIN:DAYLIGHT
TZOFFSETFROM:+0000
TZOFFSETTO:+0100
TZNAME:BST
DTSTART:20220327T010000
END:DAYLIGHT
BEGIN:STANDARD
TZOFFSETFROM:+0100
TZOFFSETTO:+0000
TZNAME:GMT
DTSTART:20221030T010000
END:STANDARD
END:VTIMEZONE
BEGIN:VEVENT
DTSTART;TZID=Europe/London:20220310T190000
DTEND;TZID=Europe/London:20220310T200000
DTSTAMP:20260425T231401
CREATED:20220222T120243Z
LAST-MODIFIED:20220224T145851Z
UID:184-1646938800-1646942400@derwentsideac.uk
SUMMARY:Senior Training
DESCRIPTION:All Groups: Lamp-post Session (2/4/8/4/2)
URL:https://derwentsideac.uk/event/senior-training-100322/
CATEGORIES:Senior Training,Training
END:VEVENT
END:VCALENDAR