BEGIN:VCALENDAR
VERSION:2.0
PRODID:-//Derwentside Athletic Club - ECPv6.0.9//NONSGML v1.0//EN
CALSCALE:GREGORIAN
METHOD:PUBLISH
X-WR-CALNAME:Derwentside Athletic Club
X-ORIGINAL-URL:https://derwentsideac.uk
X-WR-CALDESC:Events for Derwentside Athletic Club
REFRESH-INTERVAL;VALUE=DURATION:PT1H
X-Robots-Tag:noindex
X-PUBLISHED-TTL:PT1H
BEGIN:VTIMEZONE
TZID:Europe/London
BEGIN:DAYLIGHT
TZOFFSETFROM:+0000
TZOFFSETTO:+0100
TZNAME:BST
DTSTART:20220327T010000
END:DAYLIGHT
BEGIN:STANDARD
TZOFFSETFROM:+0100
TZOFFSETTO:+0000
TZNAME:GMT
DTSTART:20221030T010000
END:STANDARD
END:VTIMEZONE
BEGIN:VEVENT
DTSTART;TZID=Europe/London:20220215T190000
DTEND;TZID=Europe/London:20220215T200000
DTSTAMP:20260426T005054
CREATED:20220222T104557Z
LAST-MODIFIED:20220222T105950Z
UID:144-1644951600-1644955200@derwentsideac.uk
SUMMARY:Senior Training
DESCRIPTION:Group 1: Steady Run (3-4 miles); Group 2: Steady Run (5-7 miles); Group 3: Long Run (8-10 miles)
URL:https://derwentsideac.uk/event/senior-training-150222/
CATEGORIES:Senior Training,Training
END:VEVENT
END:VCALENDAR