BEGIN:VCALENDAR
VERSION:2.0
PRODID:-//Derwentside Athletic Club - ECPv6.0.9//NONSGML v1.0//EN
CALSCALE:GREGORIAN
METHOD:PUBLISH
X-WR-CALNAME:Derwentside Athletic Club
X-ORIGINAL-URL:https://derwentsideac.uk
X-WR-CALDESC:Events for Derwentside Athletic Club
REFRESH-INTERVAL;VALUE=DURATION:PT1H
X-Robots-Tag:noindex
X-PUBLISHED-TTL:PT1H
BEGIN:VTIMEZONE
TZID:Europe/London
BEGIN:DAYLIGHT
TZOFFSETFROM:+0000
TZOFFSETTO:+0100
TZNAME:BST
DTSTART:20220327T010000
END:DAYLIGHT
BEGIN:STANDARD
TZOFFSETFROM:+0100
TZOFFSETTO:+0000
TZNAME:GMT
DTSTART:20221030T010000
END:STANDARD
END:VTIMEZONE
BEGIN:VEVENT
DTSTART;TZID=Europe/London:20220301T190000
DTEND;TZID=Europe/London:20220301T200000
DTSTAMP:20260425T213151
CREATED:20220222T110708Z
LAST-MODIFIED:20220222T110757Z
UID:157-1646161200-1646164800@derwentsideac.uk
SUMMARY:Senior Training
DESCRIPTION:All Groups: Club Handicap (4.5 miles)
URL:https://derwentsideac.uk/event/senior-training-010322/
CATEGORIES:Senior Training,Training
END:VEVENT
BEGIN:VEVENT
DTSTART;TZID=Europe/London:20220303T190000
DTEND;TZID=Europe/London:20220303T200000
DTSTAMP:20260425T213151
CREATED:20220222T111102Z
LAST-MODIFIED:20220224T151225Z
UID:159-1646334000-1646337600@derwentsideac.uk
SUMMARY:Senior Training
DESCRIPTION:Group 1: Steady Run (4-5 miles); Group 2: Steady Run (5-7 miles); Group 3: Headtorch Run (5-7 miles)
URL:https://derwentsideac.uk/event/senior-training-030322/
CATEGORIES:Senior Training,Training
END:VEVENT
BEGIN:VEVENT
DTSTART;TZID=Europe/London:20220308T190000
DTEND;TZID=Europe/London:20220308T200000
DTSTAMP:20260425T213151
CREATED:20220222T115540Z
LAST-MODIFIED:20220224T145432Z
UID:173-1646766000-1646769600@derwentsideac.uk
SUMMARY:Senior Training
DESCRIPTION:Group 1: Steady Run (4-5 miles); Group 2: Steady Run (5-7 miles); Group 3: Steady Run (6-7 miles)
URL:https://derwentsideac.uk/event/senior-training-080322/
CATEGORIES:Senior Training,Training
END:VEVENT
BEGIN:VEVENT
DTSTART;TZID=Europe/London:20220310T190000
DTEND;TZID=Europe/London:20220310T200000
DTSTAMP:20260425T213151
CREATED:20220222T120243Z
LAST-MODIFIED:20220224T145851Z
UID:184-1646938800-1646942400@derwentsideac.uk
SUMMARY:Senior Training
DESCRIPTION:All Groups: Lamp-post Session (2/4/8/4/2)
URL:https://derwentsideac.uk/event/senior-training-100322/
CATEGORIES:Senior Training,Training
END:VEVENT
BEGIN:VEVENT
DTSTART;TZID=Europe/London:20220315T190000
DTEND;TZID=Europe/London:20220315T200000
DTSTAMP:20260425T213151
CREATED:20220222T115548Z
LAST-MODIFIED:20220224T145814Z
UID:174-1647370800-1647374400@derwentsideac.uk
SUMMARY:Senior Training
DESCRIPTION:Group 1: Steady Run (4-5 miles); Groups 2 & 3: Interval Session (6 x 2 mins)
URL:https://derwentsideac.uk/event/senior-training-150322/
CATEGORIES:Senior Training,Training
END:VEVENT
BEGIN:VEVENT
DTSTART;TZID=Europe/London:20220317T190000
DTEND;TZID=Europe/London:20220317T200000
DTSTAMP:20260425T213151
CREATED:20220222T120314Z
LAST-MODIFIED:20220224T150419Z
UID:186-1647543600-1647547200@derwentsideac.uk
SUMMARY:Senior Training
DESCRIPTION:Group 1: Steady Run (4-5 miles); Group 2: Steady Run (5-7 miles); Group 3: Steady Run (6-7 miles)
URL:https://derwentsideac.uk/event/senior-training-170322/
CATEGORIES:Senior Training,Training
END:VEVENT
BEGIN:VEVENT
DTSTART;TZID=Europe/London:20220322T190000
DTEND;TZID=Europe/London:20220322T200000
DTSTAMP:20260425T213151
CREATED:20220222T115946Z
LAST-MODIFIED:20220224T150506Z
UID:179-1647975600-1647979200@derwentsideac.uk
SUMMARY:Senior Training
DESCRIPTION:Group 1: Steady Run (4-5 miles); Group 2: Steady Run (5-7 miles); Group 3: Steady Run (7-8 miles)
URL:https://derwentsideac.uk/event/senior-training-220322/
CATEGORIES:Senior Training,Training
END:VEVENT
BEGIN:VEVENT
DTSTART;TZID=Europe/London:20220324T190000
DTEND;TZID=Europe/London:20220324T200000
DTSTAMP:20260425T213151
CREATED:20220222T120509Z
LAST-MODIFIED:20220224T151112Z
UID:190-1648148400-1648152000@derwentsideac.uk
SUMMARY:Senior Training
DESCRIPTION:All Groups: Kenyan Hills Session (40 mins)
URL:https://derwentsideac.uk/event/senior-training-240322/
CATEGORIES:Senior Training,Training
END:VEVENT
BEGIN:VEVENT
DTSTART;TZID=Europe/London:20220329T190000
DTEND;TZID=Europe/London:20220329T200000
DTSTAMP:20260425T213151
CREATED:20220222T120052Z
LAST-MODIFIED:20220224T150720Z
UID:182-1648580400-1648584000@derwentsideac.uk
SUMMARY:Senior Training
DESCRIPTION:All Groups: Summer Handicap Recce
URL:https://derwentsideac.uk/event/senior-training-290322/
CATEGORIES:Senior Training,Training
END:VEVENT
BEGIN:VEVENT
DTSTART;TZID=Europe/London:20220331T190000
DTEND;TZID=Europe/London:20220331T200000
DTSTAMP:20260425T213151
CREATED:20220222T120613Z
LAST-MODIFIED:20220224T151015Z
UID:192-1648753200-1648756800@derwentsideac.uk
SUMMARY:Senior Training
DESCRIPTION:Group 1: Steady Run (5-6 miles); Groups 2 & 3: Paarlauf Session (x 6 efforts)
URL:https://derwentsideac.uk/event/senior-training-310322/
CATEGORIES:Senior Training,Training
END:VEVENT
END:VCALENDAR