BEGIN:VCALENDAR
VERSION:2.0
PRODID:-//Derwentside Athletic Club - ECPv6.0.9//NONSGML v1.0//EN
CALSCALE:GREGORIAN
METHOD:PUBLISH
X-WR-CALNAME:Derwentside Athletic Club
X-ORIGINAL-URL:https://derwentsideac.uk
X-WR-CALDESC:Events for Derwentside Athletic Club
REFRESH-INTERVAL;VALUE=DURATION:PT1H
X-Robots-Tag:noindex
X-PUBLISHED-TTL:PT1H
BEGIN:VTIMEZONE
TZID:Europe/London
BEGIN:DAYLIGHT
TZOFFSETFROM:+0000
TZOFFSETTO:+0100
TZNAME:BST
DTSTART:20220327T010000
END:DAYLIGHT
BEGIN:STANDARD
TZOFFSETFROM:+0100
TZOFFSETTO:+0000
TZNAME:GMT
DTSTART:20221030T010000
END:STANDARD
END:VTIMEZONE
BEGIN:VEVENT
DTSTART;TZID=Europe/London:20220201T190000
DTEND;TZID=Europe/London:20220201T200000
DTSTAMP:20260425T231103
CREATED:20220222T100133Z
LAST-MODIFIED:20220222T105701Z
UID:133-1643742000-1643745600@derwentsideac.uk
SUMMARY:Senior Training
DESCRIPTION:All Groups: Club Handicap (4.5 miles)
URL:https://derwentsideac.uk/event/senior-training-010222/
CATEGORIES:Senior Training,Training
END:VEVENT
BEGIN:VEVENT
DTSTART;TZID=Europe/London:20220203T190000
DTEND;TZID=Europe/London:20220203T200000
DTSTAMP:20260425T231103
CREATED:20220222T101935Z
LAST-MODIFIED:20220222T105610Z
UID:135-1643914800-1643918400@derwentsideac.uk
SUMMARY:Senior Training
DESCRIPTION:Group 1: Steady Run (3-4 miles); Group 2: Steady Run (5-7 miles); Group 3: Headtorch Run
URL:https://derwentsideac.uk/event/senior-training-030222/
CATEGORIES:Senior Training,Training
END:VEVENT
BEGIN:VEVENT
DTSTART;TZID=Europe/London:20220208T190000
DTEND;TZID=Europe/London:20220208T200000
DTSTAMP:20260425T231103
CREATED:20220222T101956Z
LAST-MODIFIED:20220222T105430Z
UID:136-1644346800-1644350400@derwentsideac.uk
SUMMARY:Senior Training
DESCRIPTION:Group 1: Steady Run (3-4 miles); Groups 2 & 3: Interval Session (6 x 2 mins)
URL:https://derwentsideac.uk/event/senior-training-080222/
CATEGORIES:Senior Training,Training
END:VEVENT
BEGIN:VEVENT
DTSTART;TZID=Europe/London:20220210T190000
DTEND;TZID=Europe/London:20220210T200000
DTSTAMP:20260425T231103
CREATED:20220222T102000Z
LAST-MODIFIED:20220222T105938Z
UID:137-1644519600-1644523200@derwentsideac.uk
SUMMARY:Senior Training
DESCRIPTION:Group 1: Steady Run (3-4 miles); Group 2: Steady Run (5-7 miles); Group 3: Steady Run (6-8 miles)
URL:https://derwentsideac.uk/event/senior-training-100222/
CATEGORIES:Senior Training,Training
END:VEVENT
BEGIN:VEVENT
DTSTART;TZID=Europe/London:20220215T190000
DTEND;TZID=Europe/London:20220215T200000
DTSTAMP:20260425T231103
CREATED:20220222T104557Z
LAST-MODIFIED:20220222T105950Z
UID:144-1644951600-1644955200@derwentsideac.uk
SUMMARY:Senior Training
DESCRIPTION:Group 1: Steady Run (3-4 miles); Group 2: Steady Run (5-7 miles); Group 3: Long Run (8-10 miles)
URL:https://derwentsideac.uk/event/senior-training-150222/
CATEGORIES:Senior Training,Training
END:VEVENT
BEGIN:VEVENT
DTSTART;TZID=Europe/London:20220217T190000
DTEND;TZID=Europe/London:20220217T200000
DTSTAMP:20260425T231103
CREATED:20220222T104611Z
LAST-MODIFIED:20220222T110004Z
UID:145-1645124400-1645128000@derwentsideac.uk
SUMMARY:Senior Training
DESCRIPTION:Groups 1\, 2 & 3: Kenyan Hills (40 mins)
URL:https://derwentsideac.uk/event/senior-training-170222/
CATEGORIES:Senior Training,Training
END:VEVENT
BEGIN:VEVENT
DTSTART;TZID=Europe/London:20220222T190000
DTEND;TZID=Europe/London:20220222T200000
DTSTAMP:20260425T231103
CREATED:20220222T105744Z
LAST-MODIFIED:20220222T110316Z
UID:150-1645556400-1645560000@derwentsideac.uk
SUMMARY:Senior Training
DESCRIPTION:Group 1: Steady Run (4-5 miles); Group 2: Tempo Run (20 mins); Group 3: Headtorch Run
URL:https://derwentsideac.uk/event/senior-training-220222/
CATEGORIES:Senior Training,Training
END:VEVENT
BEGIN:VEVENT
DTSTART;TZID=Europe/London:20220224T190000
DTEND;TZID=Europe/London:20220224T200000
DTSTAMP:20260425T231103
CREATED:20220222T105748Z
LAST-MODIFIED:20220222T110548Z
UID:151-1645729200-1645732800@derwentsideac.uk
SUMMARY:Senior Training
DESCRIPTION:Group 1: Steady Run (4-5 miles); Group 2: Steady Run (5-7 miles); Group 3: Steady Run (6-8 miles)
URL:https://derwentsideac.uk/event/senior-training-240222/
CATEGORIES:Senior Training,Training
END:VEVENT
END:VCALENDAR